BEGIN:VCALENDAR
VERSION:2.0
PRODID:-//Ten Cate Traint - ECPv6.15.9//NONSGML v1.0//EN
CALSCALE:GREGORIAN
METHOD:PUBLISH
X-ORIGINAL-URL:https://www.tencatetraint.nl
X-WR-CALDESC:Evenementen voor Ten Cate Traint
REFRESH-INTERVAL;VALUE=DURATION:PT1H
X-Robots-Tag:noindex
X-PUBLISHED-TTL:PT1H
BEGIN:VTIMEZONE
TZID:Europe/Amsterdam
BEGIN:DAYLIGHT
TZOFFSETFROM:+0100
TZOFFSETTO:+0200
TZNAME:CEST
DTSTART:20240331T010000
END:DAYLIGHT
BEGIN:STANDARD
TZOFFSETFROM:+0200
TZOFFSETTO:+0100
TZNAME:CET
DTSTART:20241027T010000
END:STANDARD
BEGIN:DAYLIGHT
TZOFFSETFROM:+0100
TZOFFSETTO:+0200
TZNAME:CEST
DTSTART:20250330T010000
END:DAYLIGHT
BEGIN:STANDARD
TZOFFSETFROM:+0200
TZOFFSETTO:+0100
TZNAME:CET
DTSTART:20251026T010000
END:STANDARD
BEGIN:DAYLIGHT
TZOFFSETFROM:+0100
TZOFFSETTO:+0200
TZNAME:CEST
DTSTART:20260329T010000
END:DAYLIGHT
BEGIN:STANDARD
TZOFFSETFROM:+0200
TZOFFSETTO:+0100
TZNAME:CET
DTSTART:20261025T010000
END:STANDARD
END:VTIMEZONE
BEGIN:VEVENT
DTSTART;TZID=Europe/Amsterdam:20251031T180000
DTEND;TZID=Europe/Amsterdam:20251031T220000
DTSTAMP:20260422T192157
CREATED:20251013T170515Z
LAST-MODIFIED:20251013T172255Z
UID:43201-1761933600-1761948000@www.tencatetraint.nl
SUMMARY:31 Oktober\, 2025 EHBO bij baby's & kinderen\, inclusief reanimatie bij Merk-Echt Breda (alleen voor genodigden)
DESCRIPTION:Inhoud is beschermd.
URL:https://www.tencatetraint.nl/cursusdagen/31-oktober-2025-ehbo-bij-babys-kinderen-inclusief-reanimatie-bij-merk-echt-breda-alleen-voor-genodigden/
LOCATION:Merk-Echt Breda\, Keizerstraat 7\, Breda\, 4811\, Netherlands
CATEGORIES:Cursus KinderEHBO
END:VEVENT
END:VCALENDAR