BEGIN:VCALENDAR
VERSION:2.0
PRODID:-//Ten Cate Traint - ECPv6.15.9//NONSGML v1.0//EN
CALSCALE:GREGORIAN
METHOD:PUBLISH
X-ORIGINAL-URL:https://www.tencatetraint.nl
X-WR-CALDESC:Evenementen voor Ten Cate Traint
REFRESH-INTERVAL;VALUE=DURATION:PT1H
X-Robots-Tag:noindex
X-PUBLISHED-TTL:PT1H
BEGIN:VTIMEZONE
TZID:Europe/Amsterdam
BEGIN:DAYLIGHT
TZOFFSETFROM:+0100
TZOFFSETTO:+0200
TZNAME:CEST
DTSTART:20240331T010000
END:DAYLIGHT
BEGIN:STANDARD
TZOFFSETFROM:+0200
TZOFFSETTO:+0100
TZNAME:CET
DTSTART:20241027T010000
END:STANDARD
BEGIN:DAYLIGHT
TZOFFSETFROM:+0100
TZOFFSETTO:+0200
TZNAME:CEST
DTSTART:20250330T010000
END:DAYLIGHT
BEGIN:STANDARD
TZOFFSETFROM:+0200
TZOFFSETTO:+0100
TZNAME:CET
DTSTART:20251026T010000
END:STANDARD
BEGIN:DAYLIGHT
TZOFFSETFROM:+0100
TZOFFSETTO:+0200
TZNAME:CEST
DTSTART:20260329T010000
END:DAYLIGHT
BEGIN:STANDARD
TZOFFSETFROM:+0200
TZOFFSETTO:+0100
TZNAME:CET
DTSTART:20261025T010000
END:STANDARD
END:VTIMEZONE
BEGIN:VEVENT
DTSTART;TZID=Europe/Amsterdam:20251107T180000
DTEND;TZID=Europe/Amsterdam:20251107T220000
DTSTAMP:20260422T175357
CREATED:20251013T172610Z
LAST-MODIFIED:20251013T172752Z
UID:43210-1762538400-1762552800@www.tencatetraint.nl
SUMMARY:07 November\, 2025 EHBO bij baby's & kinderen\, inclusief reanimatie bij Merk-Echt Breda (alleen voor genodigden)
DESCRIPTION:Inhoud is beschermd.
URL:https://www.tencatetraint.nl/cursusdagen/07-november-2025-ehbo-bij-babys-kinderen-inclusief-reanimatie-bij-merk-echt-breda-alleen-voor-genodigden/
LOCATION:Merk-Echt Breda\, Keizerstraat 7\, Breda\, 4811\, Netherlands
CATEGORIES:Cursus KinderEHBO,KinderEHBO
END:VEVENT
BEGIN:VEVENT
DTSTART;TZID=Europe/Amsterdam:20251129T090000
DTEND;TZID=Europe/Amsterdam:20251129T130000
DTSTAMP:20260422T175357
CREATED:20250930T071518Z
LAST-MODIFIED:20250930T071602Z
UID:43164-1764406800-1764421200@www.tencatetraint.nl
SUMMARY:29 November\, 2025 Thuiscursus EHBO bij baby's en Kinderen M. de Jong (alleen genodigden).
DESCRIPTION:
URL:https://www.tencatetraint.nl/cursusdagen/29-november-2025-thuiscursus-ehbo-bij-babys-en-kinderen-m-de-jong-alleen-genodigden/
CATEGORIES:Cursus KinderEHBO,KinderEHBO
END:VEVENT
END:VCALENDAR