BEGIN:VCALENDAR
VERSION:2.0
PRODID:-//Ten Cate Traint - ECPv6.15.9//NONSGML v1.0//EN
CALSCALE:GREGORIAN
METHOD:PUBLISH
X-WR-CALNAME:Ten Cate Traint
X-ORIGINAL-URL:https://www.tencatetraint.nl
X-WR-CALDESC:Evenementen voor Ten Cate Traint
REFRESH-INTERVAL;VALUE=DURATION:PT1H
X-Robots-Tag:noindex
X-PUBLISHED-TTL:PT1H
BEGIN:VTIMEZONE
TZID:Europe/Amsterdam
BEGIN:DAYLIGHT
TZOFFSETFROM:+0100
TZOFFSETTO:+0200
TZNAME:CEST
DTSTART:20250330T010000
END:DAYLIGHT
BEGIN:STANDARD
TZOFFSETFROM:+0200
TZOFFSETTO:+0100
TZNAME:CET
DTSTART:20251026T010000
END:STANDARD
BEGIN:DAYLIGHT
TZOFFSETFROM:+0100
TZOFFSETTO:+0200
TZNAME:CEST
DTSTART:20260329T010000
END:DAYLIGHT
BEGIN:STANDARD
TZOFFSETFROM:+0200
TZOFFSETTO:+0100
TZNAME:CET
DTSTART:20261025T010000
END:STANDARD
BEGIN:DAYLIGHT
TZOFFSETFROM:+0100
TZOFFSETTO:+0200
TZNAME:CEST
DTSTART:20270328T010000
END:DAYLIGHT
BEGIN:STANDARD
TZOFFSETFROM:+0200
TZOFFSETTO:+0100
TZNAME:CET
DTSTART:20271031T010000
END:STANDARD
END:VTIMEZONE
BEGIN:VEVENT
DTSTART;TZID=Europe/Amsterdam:20260131T090000
DTEND;TZID=Europe/Amsterdam:20260131T123000
DTSTAMP:20260422T144037
CREATED:20251216T090325Z
LAST-MODIFIED:20251216T090337Z
UID:43368-1769850000-1769862600@www.tencatetraint.nl
SUMMARY:31 Januari 2026 Thuiscursus EHBO cursus gericht op baby’s & kinderen\, inclusief reanimatie.
DESCRIPTION:Inhoud is beschermd.
URL:https://www.tencatetraint.nl/cursusdagen/31-januari-2026-thuiscursus-ehbo-cursus-gericht-op-babys-kinderen-inclusief-reanimatie/
CATEGORIES:Cursus KinderEHBO
END:VEVENT
END:VCALENDAR