BEGIN:VCALENDAR
VERSION:2.0
PRODID:-//Ten Cate Traint - ECPv6.15.9//NONSGML v1.0//EN
CALSCALE:GREGORIAN
METHOD:PUBLISH
X-ORIGINAL-URL:https://www.tencatetraint.nl
X-WR-CALDESC:Evenementen voor Ten Cate Traint
REFRESH-INTERVAL;VALUE=DURATION:PT1H
X-Robots-Tag:noindex
X-PUBLISHED-TTL:PT1H
BEGIN:VTIMEZONE
TZID:Europe/Amsterdam
BEGIN:DAYLIGHT
TZOFFSETFROM:+0100
TZOFFSETTO:+0200
TZNAME:CEST
DTSTART:20240331T010000
END:DAYLIGHT
BEGIN:STANDARD
TZOFFSETFROM:+0200
TZOFFSETTO:+0100
TZNAME:CET
DTSTART:20241027T010000
END:STANDARD
BEGIN:DAYLIGHT
TZOFFSETFROM:+0100
TZOFFSETTO:+0200
TZNAME:CEST
DTSTART:20250330T010000
END:DAYLIGHT
BEGIN:STANDARD
TZOFFSETFROM:+0200
TZOFFSETTO:+0100
TZNAME:CET
DTSTART:20251026T010000
END:STANDARD
BEGIN:DAYLIGHT
TZOFFSETFROM:+0100
TZOFFSETTO:+0200
TZNAME:CEST
DTSTART:20260329T010000
END:DAYLIGHT
BEGIN:STANDARD
TZOFFSETFROM:+0200
TZOFFSETTO:+0100
TZNAME:CET
DTSTART:20261025T010000
END:STANDARD
BEGIN:DAYLIGHT
TZOFFSETFROM:+0100
TZOFFSETTO:+0200
TZNAME:CEST
DTSTART:20270328T010000
END:DAYLIGHT
BEGIN:STANDARD
TZOFFSETFROM:+0200
TZOFFSETTO:+0100
TZNAME:CET
DTSTART:20271031T010000
END:STANDARD
END:VTIMEZONE
BEGIN:VEVENT
DTSTART;TZID=Europe/Amsterdam:20260325T140000
DTEND;TZID=Europe/Amsterdam:20260325T180000
DTSTAMP:20260423T172349
CREATED:20251224T121343Z
LAST-MODIFIED:20251224T121915Z
UID:43376-1774447200-1774461600@www.tencatetraint.nl
SUMMARY:25 Maart\, 2026 EHBO bij sportongevallen (EHBSO) inclusief Reanimatie AED Myos Opleidingen
DESCRIPTION:
URL:https://www.tencatetraint.nl/cursusdagen/25-maart-2026-ehbo-bij-sportongevallen-ehbso-inclusief-reanimatie-aed-myos-opleidingen/
LOCATION:Myos Utrecht\, Otto Hahnweg 56\, Utrecht\, 3542 AX
CATEGORIES:EHBSO
ATTACH;FMTTYPE=image/png:https://www.tencatetraint.nl/wp-content/uploads/2025/04/Ontwerp-zonder-titel-9.png
ORGANIZER;CN="Caroline ten Cate":MAILTO:info@tencatetraint.nl
END:VEVENT
BEGIN:VEVENT
DTSTART;TZID=Europe/Amsterdam:20260317T193000
DTEND;TZID=Europe/Amsterdam:20260317T220000
DTSTAMP:20260423T172349
CREATED:20260129T145237Z
LAST-MODIFIED:20260129T210702Z
UID:43469-1773775800-1773784800@www.tencatetraint.nl
SUMMARY:17 Maart\, 2026 Reanimatie AED cursus (besloten groep)
DESCRIPTION:Inhoud is beschermd.
URL:https://www.tencatetraint.nl/cursusdagen/17-maart-2026-reanimatie-aed-cursus-besloten-groep/
LOCATION:Cultureel Centrum De Pannehoef\, Wilhelminalaan 57-59\, Oosterhout
CATEGORIES:Reanimatie
ORGANIZER;CN="Caroline ten Cate":MAILTO:info@tencatetraint.nl
END:VEVENT
BEGIN:VEVENT
DTSTART;TZID=Europe/Amsterdam:20260312T183000
DTEND;TZID=Europe/Amsterdam:20260312T220000
DTSTAMP:20260423T172349
CREATED:20251211T110416Z
LAST-MODIFIED:20260223T122550Z
UID:43346-1773340200-1773352800@www.tencatetraint.nl
SUMMARY:12 Maart\, 2026 EHBO bij baby’s & kinderen inclusief reanimatie Breda
DESCRIPTION:
URL:https://www.tencatetraint.nl/cursusdagen/05-maart-2026-ehbo-bij-babys-kinderen-inclusief-reanimatie-breda/
LOCATION:MEA\, Minervum 7164\,\, Breda\, 4817 ZN\, Netherlands
CATEGORIES:Cursus KinderEHBO,KinderEHBO
ATTACH;FMTTYPE=image/png:https://www.tencatetraint.nl/wp-content/uploads/2020/12/icoon_KinderEHBO.png
ORGANIZER;CN="Caroline ten Cate":MAILTO:info@tencatetraint.nl
END:VEVENT
BEGIN:VEVENT
DTSTART;TZID=Europe/Amsterdam:20260228T090000
DTEND;TZID=Europe/Amsterdam:20260228T123000
DTSTAMP:20260423T172349
CREATED:20251021T095241Z
LAST-MODIFIED:20251021T095949Z
UID:43274-1772269200-1772281800@www.tencatetraint.nl
SUMMARY:28 februari 2026 EHBO bij baby's & kinderen inclusief Reanimatie. Keet in Huis.
DESCRIPTION:Inhoud is beschermd.
URL:https://www.tencatetraint.nl/cursusdagen/28-februari-2026-ehbo-bij-babys-kinderen-inclusief-reanimatie-keet-in-huis/
LOCATION:Overakkerstraat 95\, 4834 XH Breda\, Overakkerstraat 95\, Breda\, 4834 XH\, Nederland
CATEGORIES:KinderEHBO
END:VEVENT
BEGIN:VEVENT
DTSTART;TZID=Europe/Amsterdam:20260205T183000
DTEND;TZID=Europe/Amsterdam:20260205T220000
DTSTAMP:20260423T172349
CREATED:20251211T110156Z
LAST-MODIFIED:20260106T202129Z
UID:43343-1770316200-1770328800@www.tencatetraint.nl
SUMMARY:05 Februari\, 2026 EHBO bij baby’s & kinderen inclusief reanimatie Breda
DESCRIPTION:
URL:https://www.tencatetraint.nl/cursusdagen/05-februari-2026-ehbo-bij-babys-kinderen-inclusief-reanimatie-breda/
LOCATION:MEA\, Minervum 7164\,\, Breda\, 4817 ZN\, Netherlands
CATEGORIES:Cursus KinderEHBO,KinderEHBO
ATTACH;FMTTYPE=image/png:https://www.tencatetraint.nl/wp-content/uploads/2020/12/icoon_KinderEHBO.png
END:VEVENT
BEGIN:VEVENT
DTSTART;TZID=Europe/Amsterdam:20260204T183000
DTEND;TZID=Europe/Amsterdam:20260204T220000
DTSTAMP:20260423T172349
CREATED:20251210T162001Z
LAST-MODIFIED:20251210T162001Z
UID:43328-1770229800-1770242400@www.tencatetraint.nl
SUMMARY:04 februari 2026 Thuiscursus EHBO cursus gericht op baby's & kinderen\, inclusief reanimatie.
DESCRIPTION:Inhoud is beschermd.
URL:https://www.tencatetraint.nl/cursusdagen/04-februari-2026-thuiscursus-ehbo-cursus-gericht-op-babys-kinderen-inclusief-reanimatie/
CATEGORIES:KinderEHBO
END:VEVENT
BEGIN:VEVENT
DTSTART;TZID=Europe/Amsterdam:20260131T090000
DTEND;TZID=Europe/Amsterdam:20260131T123000
DTSTAMP:20260423T172349
CREATED:20251216T090325Z
LAST-MODIFIED:20251216T090337Z
UID:43368-1769850000-1769862600@www.tencatetraint.nl
SUMMARY:31 Januari 2026 Thuiscursus EHBO cursus gericht op baby’s & kinderen\, inclusief reanimatie.
DESCRIPTION:Inhoud is beschermd.
URL:https://www.tencatetraint.nl/cursusdagen/31-januari-2026-thuiscursus-ehbo-cursus-gericht-op-babys-kinderen-inclusief-reanimatie/
CATEGORIES:Cursus KinderEHBO
END:VEVENT
BEGIN:VEVENT
DTSTART;TZID=Europe/Amsterdam:20260105T140000
DTEND;TZID=Europe/Amsterdam:20260105T180000
DTSTAMP:20260423T172349
CREATED:20251014T134806Z
LAST-MODIFIED:20251017T071635Z
UID:43231-1767621600-1767636000@www.tencatetraint.nl
SUMMARY:05 Januari\, 2026 EHBO bij sportongevallen (EHBSO) inclusief Reanimatie AED Myos Opleidingen
DESCRIPTION:In Nederland sport meer dan de helft van de bevolking wekelijks\, wat natuurlijk bijdraagt aan een gezonde levensstijl. \nHelaas zijn blessures niet te voorkomen. In 2023 liepen in Nederland naar schatting 4\,3 miljoen sporters tenminste één blessure op. Ruim de helft van de blessures had medische behandeling nodig (53%)\, vaak door een fysiotherapeut. \nAls sporter\, coach\, masseur of trainer is het essentieel om te weten hoe je snel en effectief kunt handelen bij onverwachte sportongelukken. Dit leer je tijdens de interactieve\, praktijkgerichte cursus EHBSO. We gaan onder andere in op onderwerpen gericht op het bewegings appartaat\, temperatuur letsel en reanimatie AED gericht op volwassenen. Aan het einde van de cursus ontvang je bij voldoende afronden\, het Oranje Kruis EHBSO kwalificatie.
URL:https://www.tencatetraint.nl/cursusdagen/05-januari-2026-ehbo-bij-sportongevallen-ehbso-inclusief-reanimatie-aed-myos-opleidingen/
LOCATION:Myos Utrecht\, Otto Hahnweg 56\, Utrecht\, 3542 AX
CATEGORIES:EHBSO
ATTACH;FMTTYPE=image/png:https://www.tencatetraint.nl/wp-content/uploads/2025/04/Ontwerp-zonder-titel-8.png
END:VEVENT
BEGIN:VEVENT
DTSTART;TZID=Europe/Amsterdam:20251230T140000
DTEND;TZID=Europe/Amsterdam:20251230T180000
DTSTAMP:20260423T172349
CREATED:20251230T105451Z
LAST-MODIFIED:20251230T105643Z
UID:43391-1767103200-1767117600@www.tencatetraint.nl
SUMMARY:30 december 2025\, EHBO bij baby's & kinderen\, inclusief reanimatie AED.
DESCRIPTION:
URL:https://www.tencatetraint.nl/cursusdagen/30-december-2025-ehbo-bij-babys-kinderen-inclusief-reanimatie-aed/
CATEGORIES:Cursus KinderEHBO
ATTACH;FMTTYPE=image/png:https://www.tencatetraint.nl/wp-content/uploads/2025/04/Kinder-EHBO-afbeelding.png
ORGANIZER;CN="Caroline ten Cate":MAILTO:info@tencatetraint.nl
END:VEVENT
BEGIN:VEVENT
DTSTART;TZID=Europe/Amsterdam:20251215T183000
DTEND;TZID=Europe/Amsterdam:20251215T220000
DTSTAMP:20260423T172349
CREATED:20250605T130341Z
LAST-MODIFIED:20251013T170149Z
UID:42441-1765823400-1765836000@www.tencatetraint.nl
SUMMARY:15 December\, 2025 EHBO bij baby's & kinderen inclusief reanimatie locatie verloskundig centrum Breda
DESCRIPTION:
URL:https://www.tencatetraint.nl/cursusdagen/15-december-2025-ehbo-bij-babys-kinderen-inclusief-reanimatie-locatie-verloskundig-centrum-breda/
LOCATION:verloskundig centrum\, Graaf Hendrik III Laan 63\, Breda\, 4819 CA
CATEGORIES:KinderEHBO
ATTACH;FMTTYPE=image/svg+xml:https://www.tencatetraint.nl/wp-content/uploads/2021/03/icoon_KinderEHBO_DEF_400x400.svg
ORGANIZER;CN="Caroline ten Cate":MAILTO:info@tencatetraint.nl
END:VEVENT
BEGIN:VEVENT
DTSTART;TZID=Europe/Amsterdam:20251129T090000
DTEND;TZID=Europe/Amsterdam:20251129T130000
DTSTAMP:20260423T172349
CREATED:20250930T071518Z
LAST-MODIFIED:20250930T071602Z
UID:43164-1764406800-1764421200@www.tencatetraint.nl
SUMMARY:29 November\, 2025 Thuiscursus EHBO bij baby's en Kinderen M. de Jong (alleen genodigden).
DESCRIPTION:
URL:https://www.tencatetraint.nl/cursusdagen/29-november-2025-thuiscursus-ehbo-bij-babys-en-kinderen-m-de-jong-alleen-genodigden/
CATEGORIES:Cursus KinderEHBO,KinderEHBO
END:VEVENT
BEGIN:VEVENT
DTSTART;TZID=Europe/Amsterdam:20251125T183000
DTEND;TZID=Europe/Amsterdam:20251125T220000
DTSTAMP:20260423T172349
CREATED:20250605T130104Z
LAST-MODIFIED:20250820T193919Z
UID:42438-1764095400-1764108000@www.tencatetraint.nl
SUMMARY:25 November\, 2025 EHBO bij baby's & kinderen inclusief reanimatie locatie verloskundig centrum Breda
DESCRIPTION:
URL:https://www.tencatetraint.nl/cursusdagen/25-november-2025-ehbo-bij-babys-kinderen-inclusief-reanimatie-locatie-verloskundig-centrum-breda/
LOCATION:verloskundig centrum\, Graaf Hendrik III Laan 63\, Breda\, 4819 CA
CATEGORIES:KinderEHBO
ATTACH;FMTTYPE=image/svg+xml:https://www.tencatetraint.nl/wp-content/uploads/2021/03/icoon_KinderEHBO_DEF_400x400.svg
ORGANIZER;CN="Caroline ten Cate":MAILTO:info@tencatetraint.nl
END:VEVENT
BEGIN:VEVENT
DTSTART;TZID=Europe/Amsterdam:20251107T180000
DTEND;TZID=Europe/Amsterdam:20251107T220000
DTSTAMP:20260423T172349
CREATED:20251013T172610Z
LAST-MODIFIED:20251013T172752Z
UID:43210-1762538400-1762552800@www.tencatetraint.nl
SUMMARY:07 November\, 2025 EHBO bij baby's & kinderen\, inclusief reanimatie bij Merk-Echt Breda (alleen voor genodigden)
DESCRIPTION:Inhoud is beschermd.
URL:https://www.tencatetraint.nl/cursusdagen/07-november-2025-ehbo-bij-babys-kinderen-inclusief-reanimatie-bij-merk-echt-breda-alleen-voor-genodigden/
LOCATION:Merk-Echt Breda\, Keizerstraat 7\, Breda\, 4811\, Netherlands
CATEGORIES:Cursus KinderEHBO,KinderEHBO
END:VEVENT
BEGIN:VEVENT
DTSTART;TZID=Europe/Amsterdam:20251107T150000
DTEND;TZID=Europe/Amsterdam:20251107T170000
DTSTAMP:20260423T172349
CREATED:20251013T161125Z
LAST-MODIFIED:20251013T172047Z
UID:43197-1762527600-1762534800@www.tencatetraint.nl
SUMMARY:07 November 2025\, Reanimatie AED cursus voor genodigden van Merk - Echt Breda
DESCRIPTION:Inhoud is beschermd.
URL:https://www.tencatetraint.nl/cursusdagen/07-november-2025-reanimatie-aed-cursus-voor-genodigden-van-merk-echt-breda/
LOCATION:Merk-Echt Breda\, Keizerstraat 7\, Breda\, 4811\, Netherlands
ORGANIZER;CN="Caroline ten Cate":MAILTO:info@tencatetraint.nl
END:VEVENT
BEGIN:VEVENT
DTSTART;TZID=Europe/Amsterdam:20251106T183000
DTEND;TZID=Europe/Amsterdam:20251106T220000
DTSTAMP:20260423T172349
CREATED:20251013T183356Z
LAST-MODIFIED:20251013T183356Z
UID:43214-1762453800-1762466400@www.tencatetraint.nl
SUMMARY:06 November 2025\, EHBO bij baby's & kinderen incl reanimatie (Thuiscursus alleen genodigden)
DESCRIPTION:Inhoud is beschermd.
URL:https://www.tencatetraint.nl/cursusdagen/06-november-2025-ehbo-bij-babys-kinderen-incl-reanimatie-thuiscursus-alleen-genodigden/
CATEGORIES:KinderEHBO
END:VEVENT
BEGIN:VEVENT
DTSTART;TZID=Europe/Amsterdam:20251031T180000
DTEND;TZID=Europe/Amsterdam:20251031T220000
DTSTAMP:20260423T172349
CREATED:20251013T170515Z
LAST-MODIFIED:20251013T172255Z
UID:43201-1761933600-1761948000@www.tencatetraint.nl
SUMMARY:31 Oktober\, 2025 EHBO bij baby's & kinderen\, inclusief reanimatie bij Merk-Echt Breda (alleen voor genodigden)
DESCRIPTION:Inhoud is beschermd.
URL:https://www.tencatetraint.nl/cursusdagen/31-oktober-2025-ehbo-bij-babys-kinderen-inclusief-reanimatie-bij-merk-echt-breda-alleen-voor-genodigden/
LOCATION:Merk-Echt Breda\, Keizerstraat 7\, Breda\, 4811\, Netherlands
CATEGORIES:Cursus KinderEHBO
END:VEVENT
BEGIN:VEVENT
DTSTART;TZID=Europe/Amsterdam:20251031T150000
DTEND;TZID=Europe/Amsterdam:20251031T170000
DTSTAMP:20260423T172349
CREATED:20251013T160540Z
LAST-MODIFIED:20251013T181129Z
UID:43190-1761922800-1761930000@www.tencatetraint.nl
SUMMARY:31 oktober 2025\, Reanimatie AED cursus\, partners van Merk - Echt Breda.
DESCRIPTION:Inhoud is beschermd.
URL:https://www.tencatetraint.nl/cursusdagen/31-oktober-2025-reanimatie-aed-cursus-partners-van-merk-echt-breda/
LOCATION:Merk-Echt Breda\, Keizerstraat 7\, Breda\, 4811\, Netherlands
END:VEVENT
BEGIN:VEVENT
DTSTART;TZID=Europe/Amsterdam:20251030T183000
DTEND;TZID=Europe/Amsterdam:20251030T220000
DTSTAMP:20260423T172349
CREATED:20250605T125654Z
LAST-MODIFIED:20250605T125711Z
UID:42435-1761849000-1761861600@www.tencatetraint.nl
SUMMARY:30 Oktober\, 2025 EHBO bij baby's & kinderen inclusief reanimatie locatie verloskundig centrum Breda
DESCRIPTION:
URL:https://www.tencatetraint.nl/cursusdagen/30-oktober-2025-ehbo-bij-babys-kinderen-inclusief-reanimatie-locatie-verloskundig-centrum-breda/
LOCATION:verloskundig centrum\, Graaf Hendrik III Laan 63\, Breda\, 4819 CA
CATEGORIES:KinderEHBO
ATTACH;FMTTYPE=image/svg+xml:https://www.tencatetraint.nl/wp-content/uploads/2021/03/icoon_KinderEHBO_DEF_400x400.svg
ORGANIZER;CN="Caroline ten Cate":MAILTO:info@tencatetraint.nl
END:VEVENT
BEGIN:VEVENT
DTSTART;TZID=Europe/Amsterdam:20251012T180000
DTEND;TZID=Europe/Amsterdam:20251012T220000
DTSTAMP:20260423T172349
CREATED:20250624T071926Z
LAST-MODIFIED:20251013T171740Z
UID:42470-1760292000-1760306400@www.tencatetraint.nl
SUMMARY:04 okt. 2025 EHBO bij baby's & kinderen inclusief reanimatie.
DESCRIPTION:
URL:https://www.tencatetraint.nl/cursusdagen/04-oktober-2025-ehbo-bij-babys-kinderen-inclusief-reanimatie-thuiscursus-a-van-de-poel/
LOCATION:Merk-Echt Breda\, Keizerstraat 7\, Breda\, 4811\, Netherlands
CATEGORIES:KinderEHBO
ATTACH;FMTTYPE=image/svg+xml:https://www.tencatetraint.nl/wp-content/uploads/2021/03/icoon_KinderEHBO_DEF_400x400.svg
ORGANIZER;CN="Caroline ten Cate":MAILTO:info@tencatetraint.nl
END:VEVENT
BEGIN:VEVENT
DTSTART;TZID=Europe/Amsterdam:20251004T180000
DTEND;TZID=Europe/Amsterdam:20251004T220000
DTSTAMP:20260423T172349
CREATED:20250605T125426Z
LAST-MODIFIED:20251013T171544Z
UID:42432-1759600800-1759615200@www.tencatetraint.nl
SUMMARY:23 sept 2025 EHBO bij baby's & kinderen inclusief reanimatie
DESCRIPTION:
URL:https://www.tencatetraint.nl/cursusdagen/23-september-2025-ehbo-bij-babys-kinderen-inclusief-reanimatie-locatie-verloskundig-centrum-breda/
LOCATION:Merk-Echt Breda\, Keizerstraat 7\, Breda\, 4811\, Netherlands
CATEGORIES:KinderEHBO
ATTACH;FMTTYPE=image/svg+xml:https://www.tencatetraint.nl/wp-content/uploads/2021/03/icoon_KinderEHBO_DEF_400x400.svg
ORGANIZER;CN="Caroline ten Cate":MAILTO:info@tencatetraint.nl
END:VEVENT
END:VCALENDAR