BEGIN:VCALENDAR
VERSION:2.0
PRODID:-//Ten Cate Traint - ECPv6.15.9//NONSGML v1.0//EN
CALSCALE:GREGORIAN
METHOD:PUBLISH
X-ORIGINAL-URL:https://www.tencatetraint.nl
X-WR-CALDESC:Evenementen voor Ten Cate Traint
REFRESH-INTERVAL;VALUE=DURATION:PT1H
X-Robots-Tag:noindex
X-PUBLISHED-TTL:PT1H
BEGIN:VTIMEZONE
TZID:Europe/Amsterdam
BEGIN:DAYLIGHT
TZOFFSETFROM:+0100
TZOFFSETTO:+0200
TZNAME:CEST
DTSTART:20250330T010000
END:DAYLIGHT
BEGIN:STANDARD
TZOFFSETFROM:+0200
TZOFFSETTO:+0100
TZNAME:CET
DTSTART:20251026T010000
END:STANDARD
BEGIN:DAYLIGHT
TZOFFSETFROM:+0100
TZOFFSETTO:+0200
TZNAME:CEST
DTSTART:20260329T010000
END:DAYLIGHT
BEGIN:STANDARD
TZOFFSETFROM:+0200
TZOFFSETTO:+0100
TZNAME:CET
DTSTART:20261025T010000
END:STANDARD
BEGIN:DAYLIGHT
TZOFFSETFROM:+0100
TZOFFSETTO:+0200
TZNAME:CEST
DTSTART:20270328T010000
END:DAYLIGHT
BEGIN:STANDARD
TZOFFSETFROM:+0200
TZOFFSETTO:+0100
TZNAME:CET
DTSTART:20271031T010000
END:STANDARD
END:VTIMEZONE
BEGIN:VEVENT
DTSTART;TZID=Europe/Amsterdam:20260511T193000
DTEND;TZID=Europe/Amsterdam:20260511T220000
DTSTAMP:20260423T171607
CREATED:20260216T173638Z
LAST-MODIFIED:20260407T132755Z
UID:43517-1778527800-1778536800@www.tencatetraint.nl
SUMMARY:11 Mei 2026\, Reanimatie AED cursus Ruitersbos Breda (zowel beginners als herhalers)
DESCRIPTION:
URL:https://www.tencatetraint.nl/cursusdagen/11-mei-2026-reanimatie-aed-cursus-ruitersbos-breda-zowel-beginners-als-herhalers/
LOCATION:Montenslaan 5\, Montenslaan 5\, Breda\, 4837 CE
CATEGORIES:Reanimatie
ATTACH;FMTTYPE=image/png:https://www.tencatetraint.nl/wp-content/uploads/2020/12/icoon_Reanimatie.png
ORGANIZER;CN="Caroline ten Cate":MAILTO:info@tencatetraint.nl
END:VEVENT
BEGIN:VEVENT
DTSTART;TZID=Europe/Amsterdam:20260519T183000
DTEND;TZID=Europe/Amsterdam:20260519T220000
DTSTAMP:20260423T171607
CREATED:20260401T091839Z
LAST-MODIFIED:20260401T092012Z
UID:43630-1779215400-1779228000@www.tencatetraint.nl
SUMMARY:19 Mei\, 2026 EHBO bij baby’s & kinderen inclusief reanimatie Breda (thuiscursus Colette)
DESCRIPTION:Inhoud is beschermd.
URL:https://www.tencatetraint.nl/cursusdagen/19-mei-2026-ehbo-bij-babys-kinderen-inclusief-reanimatie-breda-thuiscursus-colette/
CATEGORIES:Cursus KinderEHBO,KinderEHBO
ORGANIZER;CN="Caroline ten Cate":MAILTO:info@tencatetraint.nl
END:VEVENT
END:VCALENDAR